BEGIN:VCALENDAR
VERSION:2.0
PRODID:-// - ECPv6.6.4.1//NONSGML v1.0//EN
CALSCALE:GREGORIAN
METHOD:PUBLISH
X-ORIGINAL-URL:https://contra-tempo.com
X-WR-CALDESC:Veranstaltungen für 
REFRESH-INTERVAL;VALUE=DURATION:PT1H
X-Robots-Tag:noindex
X-PUBLISHED-TTL:PT1H
BEGIN:VTIMEZONE
TZID:Europe/Berlin
BEGIN:DAYLIGHT
TZOFFSETFROM:+0100
TZOFFSETTO:+0200
TZNAME:CEST
DTSTART:20250330T010000
END:DAYLIGHT
BEGIN:STANDARD
TZOFFSETFROM:+0200
TZOFFSETTO:+0100
TZNAME:CET
DTSTART:20251026T010000
END:STANDARD
END:VTIMEZONE
BEGIN:VEVENT
DTSTART;TZID=Europe/Berlin:20251116T180000
DTEND;TZID=Europe/Berlin:20251116T210000
DTSTAMP:20260419T180702
CREATED:20241128T075812Z
LAST-MODIFIED:20250703T151251Z
UID:467-1763316000-1763326800@contra-tempo.com
SUMMARY:Konzert
DESCRIPTION:Kontert im AWO Stuttgart \n—Infos folgen —
URL:https://contra-tempo.com/event/2024-11-16/
LOCATION:AWO Stuttgart\, Möhringer Str. 56\, Stuttgart\, BW\, 70199\, Deutschland
ATTACH;FMTTYPE=image/jpeg:https://contra-tempo.com/wp-content/uploads/2024/11/Thumbnail-2025-11-16-2.jpg
END:VEVENT
END:VCALENDAR