BEGIN:VCALENDAR
VERSION:2.0
PRODID:-// - ECPv6.6.4.1//NONSGML v1.0//EN
CALSCALE:GREGORIAN
METHOD:PUBLISH
X-ORIGINAL-URL:https://contra-tempo.com
X-WR-CALDESC:Veranstaltungen für 
REFRESH-INTERVAL;VALUE=DURATION:PT1H
X-Robots-Tag:noindex
X-PUBLISHED-TTL:PT1H
BEGIN:VTIMEZONE
TZID:Europe/Berlin
BEGIN:DAYLIGHT
TZOFFSETFROM:+0100
TZOFFSETTO:+0200
TZNAME:CEST
DTSTART:20240331T010000
END:DAYLIGHT
BEGIN:STANDARD
TZOFFSETFROM:+0200
TZOFFSETTO:+0100
TZNAME:CET
DTSTART:20241027T010000
END:STANDARD
END:VTIMEZONE
BEGIN:VEVENT
DTSTART;TZID=Europe/Berlin:20241006T170000
DTEND;TZID=Europe/Berlin:20241006T200000
DTSTAMP:20260422T155051
CREATED:20240514T134347Z
LAST-MODIFIED:20240828T130803Z
UID:226-1728234000-1728244800@contra-tempo.com
SUMMARY:Hommage an Mikis Theodorakis & Lefteris Papadopoulos
DESCRIPTION:Musik vom Mikis Theodorakis\nder bekanteste Komponist Griechenlands\nund Lieder von Lefteris Papadopoulos\neinem der bekantesten Texter/Dichter .. \n.. CONTRA TEMPO bringen zusammen mit\nNATASA GANITI & LEFTERIS KRITIKOS\neinige dieser Werke mit und führen sie\nmit Klavier\, Akkordeon\,\nGitarre\, Saxophon\nund Gesang vor.     \nFLYER \nFLYER Rückseite \n1200+ τραγούδια/ποιήματα\nγεμάτα λυρισμό για την Ελλάδα\nτων μοναχικών\nτου έρωτα\nτης χαράς\nτης βιοπάλης … \n\nΔεν θα ξαναγαπήσω\nΈχω έναν καφενέ\nΟ ανθρωπάκος\nΑχ χελιδόνι μου\n…..\n\nGuest Star: Natasa Ganiti \nLefteris (Eleftherios) Papadopoulos (Greek: Λευτέρης Παπαδόπουλος; born 14 November 1935) is a Greek lyricist\,[1] writer and journalist. \nLefteris Papadopoulos was born in Athens\, Greece on 14 November 1935.He was the son of Greek Pontian refugees\, with a father from a village near Bursa in today’s Turkey and a mother from a village near Novorossiysk in Russia.[2][3] His parents were expelled in 1924 during the population exchange between Greece and Turkey. He enrolled at the Law School of the University of Athens but stopped during his third year in order to work as a journalist. Since 1959 Papadopoulos has worked in the newspaper Ta Nea and has become a popular columnist over time. \nPapadopoulos became involved with music in 1963. He has written the lyrics for about 1\,200 songs and has co-worked with nearly all of the well-known musicians\, composers and singers of his generation\, namely Mikis Theodorakis\, Stavros Xarhakos\, Manos Loizos\, Stavros Koujioumtzis\, Mimis Plessas\, Christos Nikolopoulos\, Stelios Kazantzidis\, Grigoris Bithikotsis\, George Dalaras\, Marinella\, Viki Mosholiou and others. In 1969\, composer Mimis Plessas’s work of songs „O Dromos“\, to which Papadopoulos contributed the lyrics\, became the fastest selling Greek album. Of all the creative partnerships that Papadopoulos has had with Greek composers\, that of his close friend Manos Loizos is considered a landmark of his career. \nPapadopoulos contributed lyrics to some Greek songs from 1960 to 1990. He also wrote a few literary books\, and one about the lyricist Eftichia Papagianopoulou. He has presented various programmes about Greek Music on television; the most recent\, entitled „Makrines Filies“ (Remote Friendships)\, was broadcast on National Television\, ERT. \nPapadopoulos is married to a theatrical director and has a son and a daughter as well as two grandchildren. \nMichail „Mikis“ Theodorakis (Greek: Μιχαήλ „Μίκης“ Θεοδωράκης [ˈmicisθeoðoˈɾacis]; 29 July 1925 – 2 September 2021) was a Greek composer and lyricist credited with over 1\,000 works. \nHe scored for the films Zorba the Greek (1964)\, Z (1969)\, and Serpico (1973). He was a three-time BAFTA nominee\, winning for Z. For the score in Serpico \, he earned Grammy nominations.Furthermore\, for the score to Zorba the Greek\, with its ‚Zorba’s Dance‘\, he was Golden Globe nominated. \nHe composed the „Mauthausen Trilogy“\, also known as „The Ballad of Mauthausen“\, which has been described as the „most beautiful musical work ever written about the Holocaust“ and possibly his best work. Up until his death\, he was viewed as Greece’s best-known living composer. He was awarded the Lenin Peace Prize. \nPolitically\, he was associated with the left because of his long-standing ties to the Communist Party of Greece (KKE). He was an MP for the KKE from 1981 to 1990. Despite this however\, he ran as an independent candidate within the centre-right New Democracy party in 1989\, in order for the country to emerge from the political crisis that had been created due to the numerous scandals of the government of Andreas Papandreou. He helped establish a large coalition between conservatives\, socialists and leftists. In 1990 he was elected to the parliament (as in 1964 and 1981)\, became a government minister under Konstantinos Mitsotakis\, and fought against drugs and terrorism and for culture\, and education. He continued to speak out in favour of leftist causes\, Greek–Turkish–Cypriot relations\, and against the War in Iraq. He was a key voice against the 1967–1974 Greek junta\, which imprisoned him and banned his songs \n  \nQuelle Wikipedia
URL:https://contra-tempo.com/event/hommage-an-lefteris-papadopoulos-2/
LOCATION:ONO\, Kramgasse 6\, Bern\, Bern\, 3011\, Schweiz
ATTACH;FMTTYPE=image/jpeg:https://contra-tempo.com/wp-content/uploads/2024/05/DIN-A5-Website-500x.jpg
END:VEVENT
END:VCALENDAR